BEGIN:VCALENDAR
VERSION:2.0
PRODID:-//Gut Health SA - ECPv6.15.20//NONSGML v1.0//EN
CALSCALE:GREGORIAN
METHOD:PUBLISH
X-ORIGINAL-URL:https://guthealthsa.co.za
X-WR-CALDESC:Events for Gut Health SA
REFRESH-INTERVAL;VALUE=DURATION:PT1H
X-Robots-Tag:noindex
X-PUBLISHED-TTL:PT1H
BEGIN:VTIMEZONE
TZID:Africa/Johannesburg
BEGIN:STANDARD
TZOFFSETFROM:+0200
TZOFFSETTO:+0200
TZNAME:SAST
DTSTART:20240101T000000
END:STANDARD
END:VTIMEZONE
BEGIN:VEVENT
DTSTART;TZID=Africa/Johannesburg:20251129T080000
DTEND;TZID=Africa/Johannesburg:20251129T120000
DTSTAMP:20260423T093128
CREATED:20251114T043033Z
LAST-MODIFIED:20251128T120101Z
UID:216-1764403200-1764417600@guthealthsa.co.za
SUMMARY:Banting Market
DESCRIPTION:Join us every last Saturday of the month at Menlyn Maine Central Square from 9am to 1pm for a cozy selection of vendors in the East of Pretoria.
URL:https://guthealthsa.co.za/event/banting-market/
LOCATION:Menlyn Maine Central Square\, Ext 2\, Corner Corobay and\, Aramist Ave\, Waterkloof Glen\, Pretoria\, Gauteng\, 0181\, South Africa
CATEGORIES:Banting Market
ATTACH;FMTTYPE=image/jpeg:https://guthealthsa.co.za/wp-content/uploads/2025/11/pexels-catscoming-406152.jpg
ORGANIZER;CN="Banting Market":MAILTO:info@bantingmarket.co.za
END:VEVENT
END:VCALENDAR